BEGIN:VCALENDAR
VERSION:2.0
PRODID:-//Akasha Universal Channeling - ECPv6.15.20//NONSGML v1.0//EN
CALSCALE:GREGORIAN
METHOD:PUBLISH
X-WR-CALNAME:Akasha Universal Channeling
X-ORIGINAL-URL:https://akashauniversal.com
X-WR-CALDESC:Eventos para Akasha Universal Channeling
REFRESH-INTERVAL;VALUE=DURATION:PT1H
X-Robots-Tag:noindex
X-PUBLISHED-TTL:PT1H
BEGIN:VTIMEZONE
TZID:Europe/Madrid
BEGIN:DAYLIGHT
TZOFFSETFROM:+0100
TZOFFSETTO:+0200
TZNAME:CEST
DTSTART:20250330T010000
END:DAYLIGHT
BEGIN:STANDARD
TZOFFSETFROM:+0200
TZOFFSETTO:+0100
TZNAME:CET
DTSTART:20251026T010000
END:STANDARD
BEGIN:DAYLIGHT
TZOFFSETFROM:+0100
TZOFFSETTO:+0200
TZNAME:CEST
DTSTART:20260329T010000
END:DAYLIGHT
BEGIN:STANDARD
TZOFFSETFROM:+0200
TZOFFSETTO:+0100
TZNAME:CET
DTSTART:20261025T010000
END:STANDARD
BEGIN:DAYLIGHT
TZOFFSETFROM:+0100
TZOFFSETTO:+0200
TZNAME:CEST
DTSTART:20270328T010000
END:DAYLIGHT
BEGIN:STANDARD
TZOFFSETFROM:+0200
TZOFFSETTO:+0100
TZNAME:CET
DTSTART:20271031T010000
END:STANDARD
END:VTIMEZONE
BEGIN:VEVENT
DTSTART;TZID=Europe/Madrid:20260425T100000
DTEND;TZID=Europe/Madrid:20260426T200000
DTSTAMP:20260424T144152
CREATED:20260325T171144Z
LAST-MODIFIED:20260325T171144Z
UID:12779-1777111200-1777233600@akashauniversal.com
SUMMARY:Curso de Registros Akashicos I y II (Málaga)
DESCRIPTION: \nEl curso de Registros Akáshicos te ofrece una visión más profunda de lo que eres. Cuando accedes a los Registros Akáshicos eres capaz de conectar con tu yo superior\, con tus guías y seres de luz\, y experimentas lo que es el AKASHA\, un plano de conciencia donde se guarda toda la información de la existencia.\n \n\n¿Qué aprenderemos en el curso?\n\n \nLa energía que se mueve en los Registros Akáshicos\, es una energía de conciencia\, sabiduría y amor. El objetivo de adentrarte en los akáshicos es para ayudarte en tu camino\, ofrecerte conocimiento y una guía tanto en tu vida a nivel personal\, espiritual como en todos los aspectos que puedas necesitar.\n \nDurante el curso\, vemos todo lo necesario para que seas capaz de acceder a tus propios akáshicos por ti mism@\, al igual que al de otras personas\, animales y plantas. Vemos contenido teórico para entender bien qué son los Registros Akáshicos\, cómo podemos acceder a ellos\, cómo se canaliza y cómo funcionamos a nivel energético\, para entender bien todo el proceso\, tanto por la energía que se mueve como por la cantidad de información que podemos recibir.\n \nSe te darán todas las herramientas necesarias para que puedas acceder a ellos y se te ayudará a través de unas sintonizaciones\, a colocarte en el nivel vibratorio adecuado para que te resulte mucho más fácil el acceso. Todo el contenido que vemos durante el curso se te entrega en un manual a color. Al finalizar también se entrega un audio para trabajar con el nivel vibratorio y un diploma.\n \nAmbos días se realizan prácticas y se te dan consejos personalizados\, ya que cada persona tiene su propio potencial en la canalización. Se enseña a hacer canalización directa desde el corazón\, no se utiliza ninguna herramienta para obtener la información\, se conecta a través del canal de luz de cada persona\, con el yo superior.\n \n\nTras el curso siempre estoy disponible para dudas y para seguir aconsejando\, al igual que hay tutorías grupales y prácticas online gratuitas para los alumnos. \n 
URL:https://akashauniversal.com/evento/curso-de-registros-akashicos-i-y-ii-malaga-25-26-abr/
LOCATION:Quantum Center\, Alameda Principal\, 45\, 1ºB\, Distrito Centro\, Málaga\, Andalucía\, 29001
CATEGORIES:Registros Akáshicos
ATTACH;FMTTYPE=image/jpeg:https://akashauniversal.com/wp-content/uploads/2021/01/Plazas-diponibles.jpg
ORGANIZER;CN="Irene Poza":MAILTO:hola@akashauniversal.com
END:VEVENT
END:VCALENDAR