BEGIN:VCALENDAR
VERSION:2.0
PRODID:-//Akasha Universal Channeling - ECPv6.15.20//NONSGML v1.0//EN
CALSCALE:GREGORIAN
METHOD:PUBLISH
X-ORIGINAL-URL:https://akashauniversal.com
X-WR-CALDESC:Eventos para Akasha Universal Channeling
REFRESH-INTERVAL;VALUE=DURATION:PT1H
X-Robots-Tag:noindex
X-PUBLISHED-TTL:PT1H
BEGIN:VTIMEZONE
TZID:Europe/Madrid
BEGIN:DAYLIGHT
TZOFFSETFROM:+0100
TZOFFSETTO:+0200
TZNAME:CEST
DTSTART:20250330T010000
END:DAYLIGHT
BEGIN:STANDARD
TZOFFSETFROM:+0200
TZOFFSETTO:+0100
TZNAME:CET
DTSTART:20251026T010000
END:STANDARD
BEGIN:DAYLIGHT
TZOFFSETFROM:+0100
TZOFFSETTO:+0200
TZNAME:CEST
DTSTART:20260329T010000
END:DAYLIGHT
BEGIN:STANDARD
TZOFFSETFROM:+0200
TZOFFSETTO:+0100
TZNAME:CET
DTSTART:20261025T010000
END:STANDARD
BEGIN:DAYLIGHT
TZOFFSETFROM:+0100
TZOFFSETTO:+0200
TZNAME:CEST
DTSTART:20270328T010000
END:DAYLIGHT
BEGIN:STANDARD
TZOFFSETFROM:+0200
TZOFFSETTO:+0100
TZNAME:CET
DTSTART:20271031T010000
END:STANDARD
END:VTIMEZONE
BEGIN:VEVENT
DTSTART;TZID=Europe/Madrid:20260510T100000
DTEND;TZID=Europe/Madrid:20260510T200000
DTSTAMP:20260424T172615
CREATED:20260420T100910Z
LAST-MODIFIED:20260420T100910Z
UID:12789-1778407200-1778443200@akashauniversal.com
SUMMARY:Curso de Registros Akashicos III (Málaga)
DESCRIPTION: \nEl curso de Registros Akáshicos te ofrece una visión más profunda de lo que eres. Cuando accedes a los Registros Akáshicos eres capaz de conectar con tu yo superior\, con tus guías y seres de luz\, y experimentas lo que es el AKASHA\, un plano de conciencia donde se guarda toda la información de la existencia.\n \n\n \n\n¿Qué aprenderemos en el curso?\n\n \nLa energía que se mueve en los Registros Akáshicos\, es una energía de conciencia\, sabiduría y amor. El objetivo de adentrarte en los akáshicos es para ayudarte en tu camino\, ofrecerte conocimiento y una guía tanto en tu vida a nivel personal\, espiritual como en todos los aspectos que puedas necesitar.\n \nEn el Nivel III de Registros Akáshicos vamos a profundizar en la canalización. Haremos meditaciones para limpiar el canal de Luz y para mejorar la recepción de la energía. También hablaremos sobre los Ángeles y Arcángeles y como pueden ayudarnos. Veremos técnicas de sanación y equilibrio de los Atlantes y ahondaremos en el Karma y los tipos de Karma que nos afectan.\n \n\nTras el curso siempre estoy disponible para dudas y para seguir aconsejando\, al igual que hay tutorías grupales y prácticas online gratuitas para los alumnos.
URL:https://akashauniversal.com/evento/curso-de-registros-akashicos-iii-10-may/
LOCATION:Quantum Center\, Alameda Principal\, 45\, 1ºB\, Distrito Centro\, Málaga\, Andalucía\, 29001
CATEGORIES:Registros Akáshicos
ATTACH;FMTTYPE=image/jpeg:https://akashauniversal.com/wp-content/uploads/2021/01/PLazas-disponibles-III.jpg
ORGANIZER;CN="Irene Poza":MAILTO:hola@akashauniversal.com
END:VEVENT
BEGIN:VEVENT
DTSTART;TZID=Europe/Madrid:20260524T100000
DTEND;TZID=Europe/Madrid:20260524T200000
DTSTAMP:20260424T172615
CREATED:20260420T101034Z
LAST-MODIFIED:20260420T101034Z
UID:12791-1779616800-1779652800@akashauniversal.com
SUMMARY:Curso de Registros Akashicos III (Online)
DESCRIPTION: \nEl curso de Registros Akáshicos te ofrece una visión más profunda de lo que eres. Cuando accedes a los Registros Akáshicos eres capaz de conectar con tu yo superior\, con tus guías y seres de luz\, y experimentas lo que es el AKASHA\, un plano de conciencia donde se guarda toda la información de la existencia.\n \n\n \n\n¿Qué aprenderemos en el curso?\n\n \nLa energía que se mueve en los Registros Akáshicos\, es una energía de conciencia\, sabiduría y amor. El objetivo de adentrarte en los akáshicos es para ayudarte en tu camino\, ofrecerte conocimiento y una guía tanto en tu vida a nivel personal\, espiritual como en todos los aspectos que puedas necesitar.\n \nEn el Nivel III de Registros Akáshicos vamos a profundizar en la canalización. Haremos meditaciones para limpiar el canal de Luz y para mejorar la recepción de la energía. También hablaremos sobre los Ángeles y Arcángeles y como pueden ayudarnos. Veremos técnicas de sanación y equilibrio de los Atlantes y ahondaremos en el Karma y los tipos de Karma que nos afectan.\n \n\nTras el curso siempre estoy disponible para dudas y para seguir aconsejando\, al igual que hay tutorías grupales y prácticas online gratuitas para los alumnos.
URL:https://akashauniversal.com/evento/curso-de-registros-akashicos-iii-24-may/
CATEGORIES:Registros Akáshicos
ATTACH;FMTTYPE=image/jpeg:https://akashauniversal.com/wp-content/uploads/2021/01/PLazas-disponibles-III.jpg
ORGANIZER;CN="Irene Poza":MAILTO:hola@akashauniversal.com
END:VEVENT
END:VCALENDAR