BEGIN:VCALENDAR
VERSION:2.0
PRODID:-//Akasha Universal Channeling - ECPv6.15.20//NONSGML v1.0//EN
CALSCALE:GREGORIAN
METHOD:PUBLISH
X-ORIGINAL-URL:https://akashauniversal.com
X-WR-CALDESC:Eventos para Akasha Universal Channeling
REFRESH-INTERVAL;VALUE=DURATION:PT1H
X-Robots-Tag:noindex
X-PUBLISHED-TTL:PT1H
BEGIN:VTIMEZONE
TZID:Europe/Madrid
BEGIN:DAYLIGHT
TZOFFSETFROM:+0100
TZOFFSETTO:+0200
TZNAME:CEST
DTSTART:20250330T010000
END:DAYLIGHT
BEGIN:STANDARD
TZOFFSETFROM:+0200
TZOFFSETTO:+0100
TZNAME:CET
DTSTART:20251026T010000
END:STANDARD
BEGIN:DAYLIGHT
TZOFFSETFROM:+0100
TZOFFSETTO:+0200
TZNAME:CEST
DTSTART:20260329T010000
END:DAYLIGHT
BEGIN:STANDARD
TZOFFSETFROM:+0200
TZOFFSETTO:+0100
TZNAME:CET
DTSTART:20261025T010000
END:STANDARD
BEGIN:DAYLIGHT
TZOFFSETFROM:+0100
TZOFFSETTO:+0200
TZNAME:CEST
DTSTART:20270328T010000
END:DAYLIGHT
BEGIN:STANDARD
TZOFFSETFROM:+0200
TZOFFSETTO:+0100
TZNAME:CET
DTSTART:20271031T010000
END:STANDARD
END:VTIMEZONE
BEGIN:VEVENT
DTSTART;TZID=Europe/Madrid:20260724T170000
DTEND;TZID=Europe/Madrid:20260727T140000
DTSTAMP:20260424T202015
CREATED:20251112T122243Z
LAST-MODIFIED:20251112T124746Z
UID:12251-1784912400-1785160800@akashauniversal.com
SUMMARY:Retiro de Meditación y Crecimiento Espiritual (Granada)
DESCRIPTION:Te invitamos a nuestro Retiro «Consciencia» 2026 en Granada\n \n\nCon todo el estrés y ajetreo del día a día\, necesitamos también un tiempo para cuidar nuestro interior. Es por ellos que hemos creado \neste retiro de Meditación y Crecimiento Espiritual\, un espacio donde abrir el corazón y aumentar nuestra conciencia. Tómate un descanso \ndel mundo exterior para conectar con tu mundo interno\, y disfrutar de unos días en un entorno natural\, donde podrás recargarte de nuevo de energía. \nLa casa rural El Cortijo Casería del Mercado nos ofrece unas vistas impresionantes en una localización rodeada de naturaleza\, donde nos \ndedicaremos exclusivamente a actividades enfocadas en el desarrollo personal y espiritual. \n  \n¿Qué actividades haremos durante el Retiro?\n  \nActivaciones energéticas \nCharlas espirituales \nConcierto de sonido y canto  \nDinámicas grupales \nMeditación \nChikung \nLimpieza energética \nConexión con la naturaleza \n  \nInformación General\n  \n\nDuración del Retiro: 4 días (tres noches)\nEntrada: Viernes 24 de Julio a partir de las 17:00h\nSalida: Lunes 27 de Julio por la tarde\nAlojamiento con pensión completa: Habitaciones dobles con baño privado\nPrecio: 550€ si reservas antes del 30 de Abril. Después 650€.\nPDF completo → Descargar aquí\n\n  \n\n> Reservar  aquí tu plaza <
URL:https://akashauniversal.com/evento/retiro-de-meditacion-y-crecimiento-espiritual-granada-2026/
LOCATION:Cortijo Casería del Mercado\, Cortijo Casería del Mercado S/N\, 18438 Almegíjar\, Granada\, Spain
CATEGORIES:Retiros
ATTACH;FMTTYPE=image/webp:https://akashauniversal.com/wp-content/uploads/2025/11/retiro-granada-evento.webp
ORGANIZER;CN="Irene Poza":MAILTO:hola@akashauniversal.com
END:VEVENT
END:VCALENDAR